BEGIN:VCALENDAR
VERSION:2.0
PRODID:-//Goldgrube//myauktion.com//AT
CALSCALE:GREGORIAN
BEGIN:VEVENT
DTSTART:20260506T140700
DTEND:20260506T140730
LOCATION:Gewerbepark 13, 8562 Mooskirchen
DTSTAMP:20260423T151120
SUMMARY:MyAuktion: Ablauf Artikel Nr. 443466 CWS Hygiene Paradise Cream komplett  Art.Nr: 1000434
URL;VALUE=URI:https://www.myauktion.com/versteigerung7661-position2446745-cws-hygiene-paradise-cream-komplett-artnr-1000434.php
DESCRIPTION:
UID:myauktion-7661-2446745
BEGIN:VALARM
ACTION:DISPLAY
DESCRIPTION:
TRIGGER:-PT10M
END:VALARM
END:VEVENT
END:VCALENDAR