BEGIN:VCALENDAR
VERSION:2.0
PRODID:-//Goldgrube//myauktion.com//AT
CALSCALE:GREGORIAN
BEGIN:VEVENT
DTSTART:20260506T140800
DTEND:20260506T140830
LOCATION:Gewerbepark 13, 8562 Mooskirchen
DTSTAMP:20260423T151109
SUMMARY:MyAuktion: Ablauf Artikel Nr. 443469 Benuta Nest Teppich Gobi 120x170cm 
URL;VALUE=URI:https://www.myauktion.com/versteigerung7661-position2446750-benuta-nest-teppich-gobi-120x170cm.php
DESCRIPTION:
UID:myauktion-7661-2446750
BEGIN:VALARM
ACTION:DISPLAY
DESCRIPTION:
TRIGGER:-PT10M
END:VALARM
END:VEVENT
END:VCALENDAR