BEGIN:VCALENDAR
VERSION:2.0
PRODID:-//Goldgrube//myauktion.com//AT
CALSCALE:GREGORIAN
BEGIN:VEVENT
DTSTART:20260506T155800
DTEND:20260506T155830
LOCATION:Gewerbepark 13, 8562 Mooskirchen
DTSTAMP:20260423T151137
SUMMARY:MyAuktion: Ablauf Artikel Nr. 444065 CWS Paradise Cream Slim komplett 1000434
URL;VALUE=URI:https://www.myauktion.com/versteigerung7661-position2446752-cws-paradise-cream-slim-komplett-1000434.php
DESCRIPTION:
UID:myauktion-7661-2446752
BEGIN:VALARM
ACTION:DISPLAY
DESCRIPTION:
TRIGGER:-PT10M
END:VALARM
END:VEVENT
END:VCALENDAR