BEGIN:VCALENDAR
VERSION:2.0
PRODID:-//Goldgrube//myauktion.com//AT
CALSCALE:GREGORIAN
BEGIN:VEVENT
DTSTART:20260506T160100
DTEND:20260506T160130
LOCATION:Gewerbepark 13, 8562 Mooskirchen
DTSTAMP:20260423T153056
SUMMARY:MyAuktion: Ablauf Artikel Nr. 444066 CWS Paradise Cream Slim komplett DK 1000426
URL;VALUE=URI:https://www.myauktion.com/versteigerung7661-position2446753-cws-paradise-cream-slim-komplett-dk-1000426.php
DESCRIPTION:
UID:myauktion-7661-2446753
BEGIN:VALARM
ACTION:DISPLAY
DESCRIPTION:
TRIGGER:-PT10M
END:VALARM
END:VEVENT
END:VCALENDAR