BEGIN:VCALENDAR
VERSION:2.0
PRODID:-//Goldgrube//myauktion.com//AT
CALSCALE:GREGORIAN
BEGIN:VEVENT
DTSTART:20260506T150700
DTEND:20260506T150730
LOCATION:Gewerbepark 13, 8562 Mooskirchen
DTSTAMP:20260423T151112
SUMMARY:MyAuktion: Ablauf Artikel Nr. 443687 Kelfort Stichsägenblätter Art. Nr. 1513602
URL;VALUE=URI:https://www.myauktion.com/versteigerung7661-position2446755-kelfort-stichsaegenblaetter-art-nr-1513602.php
DESCRIPTION:<div>5 Stück pro Set</div>
UID:myauktion-7661-2446755
BEGIN:VALARM
ACTION:DISPLAY
DESCRIPTION:<div>5 Stück pro Set</div>
TRIGGER:-PT10M
END:VALARM
END:VEVENT
END:VCALENDAR