BEGIN:VCALENDAR
VERSION:2.0
PRODID:-//Goldgrube//myauktion.com//AT
CALSCALE:GREGORIAN
BEGIN:VEVENT
DTSTART:20260506T160500
DTEND:20260506T160530
LOCATION:Gewerbepark 13, 8562 Mooskirchen
DTSTAMP:20260423T153056
SUMMARY:MyAuktion: Ablauf Artikel Nr. 444070 Lindby Lampe 9621439
URL;VALUE=URI:https://www.myauktion.com/versteigerung7661-position2446756-lindby-lampe-9621439.php
DESCRIPTION:
UID:myauktion-7661-2446756
BEGIN:VALARM
ACTION:DISPLAY
DESCRIPTION:
TRIGGER:-PT10M
END:VALARM
END:VEVENT
END:VCALENDAR