BEGIN:VCALENDAR
VERSION:2.0
PRODID:-//Goldgrube//myauktion.com//AT
CALSCALE:GREGORIAN
BEGIN:VEVENT
DTSTART:20260506T150900
DTEND:20260506T150930
LOCATION:Gewerbepark 13, 8562 Mooskirchen
DTSTAMP:20260423T151118
SUMMARY:MyAuktion: Ablauf Artikel Nr. 443688 Heller Hammerbohrer
URL;VALUE=URI:https://www.myauktion.com/versteigerung7661-position2446757-heller-hammerbohrer.php
DESCRIPTION:<div>400mm Länge, 25mm Durchmesser</div>
UID:myauktion-7661-2446757
BEGIN:VALARM
ACTION:DISPLAY
DESCRIPTION:<div>400mm Länge, 25mm Durchmesser</div>
TRIGGER:-PT10M
END:VALARM
END:VEVENT
END:VCALENDAR