BEGIN:VCALENDAR
VERSION:2.0
PRODID:-//Goldgrube//myauktion.com//AT
CALSCALE:GREGORIAN
BEGIN:VEVENT
DTSTART:20260506T151000
DTEND:20260506T151030
LOCATION:Gewerbepark 13, 8562 Mooskirchen
DTSTAMP:20260423T151118
SUMMARY:MyAuktion: Ablauf Artikel Nr. 443689 S.Oliver Schuhe
URL;VALUE=URI:https://www.myauktion.com/versteigerung7661-position2446758-soliver-schuhe.php
DESCRIPTION:<div>Gr. 41 / gebraucht, verschmutzt</div>
UID:myauktion-7661-2446758
BEGIN:VALARM
ACTION:DISPLAY
DESCRIPTION:<div>Gr. 41 / gebraucht, verschmutzt</div>
TRIGGER:-PT10M
END:VALARM
END:VEVENT
END:VCALENDAR