BEGIN:VCALENDAR
VERSION:2.0
PRODID:-//Goldgrube//myauktion.com//AT
CALSCALE:GREGORIAN
BEGIN:VEVENT
DTSTART:20260506T143400
DTEND:20260506T143430
LOCATION:Gewerbepark 13, 8562 Mooskirchen
DTSTAMP:20260423T151113
SUMMARY:MyAuktion: Ablauf Artikel Nr. 443656 Berker Steckdosen Rahmen 10148989
URL;VALUE=URI:https://www.myauktion.com/versteigerung7661-position2446760-berker-steckdosen-rahmen-10148989.php
DESCRIPTION:
UID:myauktion-7661-2446760
BEGIN:VALARM
ACTION:DISPLAY
DESCRIPTION:
TRIGGER:-PT10M
END:VALARM
END:VEVENT
END:VCALENDAR