BEGIN:VCALENDAR
VERSION:2.0
PRODID:-//Goldgrube//myauktion.com//AT
CALSCALE:GREGORIAN
BEGIN:VEVENT
DTSTART:20260506T153100
DTEND:20260506T153130
LOCATION:Gewerbepark 13, 8562 Mooskirchen
DTSTAMP:20260423T151112
SUMMARY:MyAuktion: Ablauf Artikel Nr. 444017 Vida XL Sichtschutzschtreifen AAB 19*2525  4005544.A
URL;VALUE=URI:https://www.myauktion.com/versteigerung7661-position2446766-vida-xl-sichtschutzschtreifen-aab-192525-4005544a.php
DESCRIPTION:
UID:myauktion-7661-2446766
BEGIN:VALARM
ACTION:DISPLAY
DESCRIPTION:
TRIGGER:-PT10M
END:VALARM
END:VEVENT
END:VCALENDAR