BEGIN:VCALENDAR
VERSION:2.0
PRODID:-//Goldgrube//myauktion.com//AT
CALSCALE:GREGORIAN
BEGIN:VEVENT
DTSTART:20260506T135800
DTEND:20260506T135830
LOCATION:Gewerbepark 13, 8562 Mooskirchen
DTSTAMP:20260423T151119
SUMMARY:MyAuktion: Ablauf Artikel Nr. 443453 GP Super Alkaline AAx40 
URL;VALUE=URI:https://www.myauktion.com/versteigerung7661-position2446776-gp-super-alkaline-aax40.php
DESCRIPTION:
UID:myauktion-7661-2446776
BEGIN:VALARM
ACTION:DISPLAY
DESCRIPTION:
TRIGGER:-PT10M
END:VALARM
END:VEVENT
END:VCALENDAR