BEGIN:VCALENDAR
VERSION:2.0
PRODID:-//Goldgrube//myauktion.com//AT
CALSCALE:GREGORIAN
BEGIN:VEVENT
DTSTART:20260506T150100
DTEND:20260506T150130
LOCATION:Gewerbepark 13, 8562 Mooskirchen
DTSTAMP:20260423T151120
SUMMARY:MyAuktion: Ablauf Artikel Nr. 443677 CONEL Doppelabzweig DN 110/110/110/87 Grad
URL;VALUE=URI:https://www.myauktion.com/versteigerung7661-position2446783-conel-doppelabzweig-dn-110-110-110-87-grad.php
DESCRIPTION:DIN 4102-B2
UID:myauktion-7661-2446783
BEGIN:VALARM
ACTION:DISPLAY
DESCRIPTION:DIN 4102-B2
TRIGGER:-PT10M
END:VALARM
END:VEVENT
END:VCALENDAR