BEGIN:VCALENDAR
VERSION:2.0
PRODID:-//Goldgrube//myauktion.com//AT
CALSCALE:GREGORIAN
BEGIN:VEVENT
DTSTART:20260506T155700
DTEND:20260506T155730
LOCATION:Gewerbepark 13, 8562 Mooskirchen
DTSTAMP:20260423T151121
SUMMARY:MyAuktion: Ablauf Artikel Nr. 444064 Surfou Toilettensitz mit Absenkautomatik  XH1141
URL;VALUE=URI:https://www.myauktion.com/versteigerung7661-position2446785-surfou-toilettensitz-mit-absenkautomatik-xh1141.php
DESCRIPTION:
UID:myauktion-7661-2446785
BEGIN:VALARM
ACTION:DISPLAY
DESCRIPTION:
TRIGGER:-PT10M
END:VALARM
END:VEVENT
END:VCALENDAR