BEGIN:VCALENDAR
VERSION:2.0
PRODID:-//Goldgrube//myauktion.com//AT
CALSCALE:GREGORIAN
BEGIN:VEVENT
DTSTART:20260506T130200
DTEND:20260506T130230
LOCATION:Gewerbepark 13, 8562 Mooskirchen
DTSTAMP:20260423T151118
SUMMARY:MyAuktion: Ablauf Artikel Nr. 443072 Zara Gürtel schwarz 
URL;VALUE=URI:https://www.myauktion.com/versteigerung7661-position2446792-zara-guertel-schwarz.php
DESCRIPTION:L-XL 
UID:myauktion-7661-2446792
BEGIN:VALARM
ACTION:DISPLAY
DESCRIPTION:L-XL 
TRIGGER:-PT10M
END:VALARM
END:VEVENT
END:VCALENDAR