BEGIN:VCALENDAR
VERSION:2.0
PRODID:-//Goldgrube//myauktion.com//AT
CALSCALE:GREGORIAN
BEGIN:VEVENT
DTSTART:20260506T130300
DTEND:20260506T130330
LOCATION:Gewerbepark 13, 8562 Mooskirchen
DTSTAMP:20260423T151114
SUMMARY:MyAuktion: Ablauf Artikel Nr. 443073 Automobile wheel hub unit 9664769 
URL;VALUE=URI:https://www.myauktion.com/versteigerung7661-position2446793-automobile-wheel-hub-unit-9664769.php
DESCRIPTION:
UID:myauktion-7661-2446793
BEGIN:VALARM
ACTION:DISPLAY
DESCRIPTION:
TRIGGER:-PT10M
END:VALARM
END:VEVENT
END:VCALENDAR