BEGIN:VCALENDAR
VERSION:2.0
PRODID:-//Goldgrube//myauktion.com//AT
CALSCALE:GREGORIAN
BEGIN:VEVENT
DTSTART:20260506T141000
DTEND:20260506T141030
LOCATION:Gewerbepark 13, 8562 Mooskirchen
DTSTAMP:20260423T151111
SUMMARY:MyAuktion: Ablauf Artikel Nr. 443471 Absperrband 2MAX ca 500m 
URL;VALUE=URI:https://www.myauktion.com/versteigerung7661-position2446794-absperrband-2max-ca-500m.php
DESCRIPTION:
UID:myauktion-7661-2446794
BEGIN:VALARM
ACTION:DISPLAY
DESCRIPTION:
TRIGGER:-PT10M
END:VALARM
END:VEVENT
END:VCALENDAR