BEGIN:VCALENDAR
VERSION:2.0
PRODID:-//Goldgrube//myauktion.com//AT
CALSCALE:GREGORIAN
BEGIN:VEVENT
DTSTART:20260506T151200
DTEND:20260506T151230
LOCATION:Gewerbepark 13, 8562 Mooskirchen
DTSTAMP:20260423T151133
SUMMARY:MyAuktion: Ablauf Artikel Nr. 443690 SOLIX Anker Zubehör
URL;VALUE=URI:https://www.myauktion.com/versteigerung7661-position2446795-solix-anker-zubehoer.php
DESCRIPTION:
UID:myauktion-7661-2446795
BEGIN:VALARM
ACTION:DISPLAY
DESCRIPTION:
TRIGGER:-PT10M
END:VALARM
END:VEVENT
END:VCALENDAR