BEGIN:VCALENDAR
VERSION:2.0
PRODID:-//Goldgrube//myauktion.com//AT
CALSCALE:GREGORIAN
BEGIN:VEVENT
DTSTART:20260506T130400
DTEND:20260506T130430
LOCATION:Gewerbepark 13, 8562 Mooskirchen
DTSTAMP:20260423T151115
SUMMARY:MyAuktion: Ablauf Artikel Nr. 443074 Kosmos Krimi Puzzle Spuk auf dem Schulhof 
URL;VALUE=URI:https://www.myauktion.com/versteigerung7661-position2446796-kosmos-krimi-puzzle-spuk-auf-dem-schulhof.php
DESCRIPTION:Gebraucht, Vollständigkeit nicht geprüft
UID:myauktion-7661-2446796
BEGIN:VALARM
ACTION:DISPLAY
DESCRIPTION:Gebraucht, Vollständigkeit nicht geprüft
TRIGGER:-PT10M
END:VALARM
END:VEVENT
END:VCALENDAR