BEGIN:VCALENDAR
VERSION:2.0
PRODID:-//Goldgrube//myauktion.com//AT
CALSCALE:GREGORIAN
BEGIN:VEVENT
DTSTART:20260506T151600
DTEND:20260506T151630
LOCATION:Gewerbepark 13, 8562 Mooskirchen
DTSTAMP:20260423T151125
SUMMARY:MyAuktion: Ablauf Artikel Nr. 443692 Tabepack Salatschale je 1000ml
URL;VALUE=URI:https://www.myauktion.com/versteigerung7661-position2446800-tabepack-salatschale-je-1000ml.php
DESCRIPTION:<div>300 stück, Durchmesser 150x77mm</div>
UID:myauktion-7661-2446800
BEGIN:VALARM
ACTION:DISPLAY
DESCRIPTION:<div>300 stück, Durchmesser 150x77mm</div>
TRIGGER:-PT10M
END:VALARM
END:VEVENT
END:VCALENDAR