BEGIN:VCALENDAR
VERSION:2.0
PRODID:-//Goldgrube//myauktion.com//AT
CALSCALE:GREGORIAN
BEGIN:VEVENT
DTSTART:20260506T130500
DTEND:20260506T130530
LOCATION:Gewerbepark 13, 8562 Mooskirchen
DTSTAMP:20260423T151125
SUMMARY:MyAuktion: Ablauf Artikel Nr. 443081 Ravensburget tiptoi Starter Set 
URL;VALUE=URI:https://www.myauktion.com/versteigerung7661-position2446804-ravensburget-tiptoi-starter-set.php
DESCRIPTION:Gebraucht, Vollständigkeit nicht geprüft
UID:myauktion-7661-2446804
BEGIN:VALARM
ACTION:DISPLAY
DESCRIPTION:Gebraucht, Vollständigkeit nicht geprüft
TRIGGER:-PT10M
END:VALARM
END:VEVENT
END:VCALENDAR