BEGIN:VCALENDAR
VERSION:2.0
PRODID:-//Goldgrube//myauktion.com//AT
CALSCALE:GREGORIAN
BEGIN:VEVENT
DTSTART:20260506T130600
DTEND:20260506T130630
LOCATION:Gewerbepark 13, 8562 Mooskirchen
DTSTAMP:20260423T151112
SUMMARY:MyAuktion: Ablauf Artikel Nr. 443085 Hema Kissen ca. 40x20cm 
URL;VALUE=URI:https://www.myauktion.com/versteigerung7661-position2446805-hema-kissen-ca-40x20cm.php
DESCRIPTION:Gebraucht, verschmutzt 
UID:myauktion-7661-2446805
BEGIN:VALARM
ACTION:DISPLAY
DESCRIPTION:Gebraucht, verschmutzt 
TRIGGER:-PT10M
END:VALARM
END:VEVENT
END:VCALENDAR