BEGIN:VCALENDAR
VERSION:2.0
PRODID:-//Goldgrube//myauktion.com//AT
CALSCALE:GREGORIAN
BEGIN:VEVENT
DTSTART:20260506T141200
DTEND:20260506T141230
LOCATION:Gewerbepark 13, 8562 Mooskirchen
DTSTAMP:20260423T151126
SUMMARY:MyAuktion: Ablauf Artikel Nr. 443476 Kaffe to go Becher 2x 50 stk + Deckel 
URL;VALUE=URI:https://www.myauktion.com/versteigerung7661-position2446809-kaffe-to-go-becher-2x-50-stk-deckel.php
DESCRIPTION:
UID:myauktion-7661-2446809
BEGIN:VALARM
ACTION:DISPLAY
DESCRIPTION:
TRIGGER:-PT10M
END:VALARM
END:VEVENT
END:VCALENDAR