BEGIN:VCALENDAR
VERSION:2.0
PRODID:-//Goldgrube//myauktion.com//AT
CALSCALE:GREGORIAN
BEGIN:VEVENT
DTSTART:20260506T160900
DTEND:20260506T160930
LOCATION:Gewerbepark 13, 8562 Mooskirchen
DTSTAMP:20260423T153054
SUMMARY:MyAuktion: Ablauf Artikel Nr. 444078 Viessmann Regelung VBC141-C00.002. 7862231
URL;VALUE=URI:https://www.myauktion.com/versteigerung7661-position2446810-viessmann-regelung-vbc141-c00002-7862231.php
DESCRIPTION:
UID:myauktion-7661-2446810
BEGIN:VALARM
ACTION:DISPLAY
DESCRIPTION:
TRIGGER:-PT10M
END:VALARM
END:VEVENT
END:VCALENDAR