BEGIN:VCALENDAR
VERSION:2.0
PRODID:-//Goldgrube//myauktion.com//AT
CALSCALE:GREGORIAN
BEGIN:VEVENT
DTSTART:20260506T130900
DTEND:20260506T130930
LOCATION:Gewerbepark 13, 8562 Mooskirchen
DTSTAMP:20260423T151118
SUMMARY:MyAuktion: Ablauf Artikel Nr. 443095 Leifhet Power Clean/Clean Twist Micro Duo Ersatzbezug 33cm 
URL;VALUE=URI:https://www.myauktion.com/versteigerung7661-position2446811-leifhet-power-clean-clean-twist-micro-duo-ersatzbezug-33cm.php
DESCRIPTION:
UID:myauktion-7661-2446811
BEGIN:VALARM
ACTION:DISPLAY
DESCRIPTION:
TRIGGER:-PT10M
END:VALARM
END:VEVENT
END:VCALENDAR