BEGIN:VCALENDAR
VERSION:2.0
PRODID:-//Goldgrube//myauktion.com//AT
CALSCALE:GREGORIAN
BEGIN:VEVENT
DTSTART:20260506T161000
DTEND:20260506T161030
LOCATION:Gewerbepark 13, 8562 Mooskirchen
DTSTAMP:20260423T153059
SUMMARY:MyAuktion: Ablauf Artikel Nr. 444079 Dayco  DSS3863 Peugeot,Citroen, DS 
URL;VALUE=URI:https://www.myauktion.com/versteigerung7661-position2446812-dayco-dss3863-peugeotcitroen-ds.php
DESCRIPTION:
UID:myauktion-7661-2446812
BEGIN:VALARM
ACTION:DISPLAY
DESCRIPTION:
TRIGGER:-PT10M
END:VALARM
END:VEVENT
END:VCALENDAR