BEGIN:VCALENDAR
VERSION:2.0
PRODID:-//Goldgrube//myauktion.com//AT
CALSCALE:GREGORIAN
BEGIN:VEVENT
DTSTART:20260506T131500
DTEND:20260506T131530
LOCATION:Gewerbepark 13, 8562 Mooskirchen
DTSTAMP:20260423T153101
SUMMARY:MyAuktion: Ablauf Artikel Nr. 443098 Sanit Waschtischablage 1100/1 alpin-weiß 
URL;VALUE=URI:https://www.myauktion.com/versteigerung7661-position2446816-sanit-waschtischablage-1100-1-alpin-weiss.php
DESCRIPTION:
UID:myauktion-7661-2446816
BEGIN:VALARM
ACTION:DISPLAY
DESCRIPTION:
TRIGGER:-PT10M
END:VALARM
END:VEVENT
END:VCALENDAR