BEGIN:VCALENDAR
VERSION:2.0
PRODID:-//Goldgrube//myauktion.com//AT
CALSCALE:GREGORIAN
BEGIN:VEVENT
DTSTART:20260506T161200
DTEND:20260506T161230
LOCATION:Gewerbepark 13, 8562 Mooskirchen
DTSTAMP:20260423T153058
SUMMARY:MyAuktion: Ablauf Artikel Nr. 444081 Viega  Edelstahl-Rohrverschraubung 2"-150 9stk 
URL;VALUE=URI:https://www.myauktion.com/versteigerung7661-position2446817-viega-edelstahl-rohrverschraubung-2-34-150-9stk.php
DESCRIPTION:
UID:myauktion-7661-2446817
BEGIN:VALARM
ACTION:DISPLAY
DESCRIPTION:
TRIGGER:-PT10M
END:VALARM
END:VEVENT
END:VCALENDAR