BEGIN:VCALENDAR
VERSION:2.0
PRODID:-//Goldgrube//myauktion.com//AT
CALSCALE:GREGORIAN
BEGIN:VEVENT
DTSTART:20260506T161300
DTEND:20260506T161330
LOCATION:Gewerbepark 13, 8562 Mooskirchen
DTSTAMP:20260423T153105
SUMMARY:MyAuktion: Ablauf Artikel Nr. 444082 Zelt D5M LSJ L22
URL;VALUE=URI:https://www.myauktion.com/versteigerung7661-position2446818-zelt-d5m-lsj-l22.php
DESCRIPTION:Keine näheren Daten vorhanden 
UID:myauktion-7661-2446818
BEGIN:VALARM
ACTION:DISPLAY
DESCRIPTION:Keine näheren Daten vorhanden 
TRIGGER:-PT10M
END:VALARM
END:VEVENT
END:VCALENDAR