BEGIN:VCALENDAR
VERSION:2.0
PRODID:-//Goldgrube//myauktion.com//AT
CALSCALE:GREGORIAN
BEGIN:VEVENT
DTSTART:20260506T161400
DTEND:20260506T161430
LOCATION:Gewerbepark 13, 8562 Mooskirchen
DTSTAMP:20260423T165941
SUMMARY:MyAuktion: Ablauf Artikel Nr. 444084 Bevero Thermoskanne 
URL;VALUE=URI:https://www.myauktion.com/versteigerung7661-position2446820-bevero-thermoskanne.php
DESCRIPTION:Gesamthöhe ca.36cm. Leicht beschädigt.  Gebraucht 
UID:myauktion-7661-2446820
BEGIN:VALARM
ACTION:DISPLAY
DESCRIPTION:Gesamthöhe ca.36cm. Leicht beschädigt.  Gebraucht 
TRIGGER:-PT10M
END:VALARM
END:VEVENT
END:VCALENDAR