BEGIN:VCALENDAR
VERSION:2.0
PRODID:-//Goldgrube//myauktion.com//AT
CALSCALE:GREGORIAN
BEGIN:VEVENT
DTSTART:20260506T161700
DTEND:20260506T161730
LOCATION:Gewerbepark 13, 8562 Mooskirchen
DTSTAMP:20260423T165940
SUMMARY:MyAuktion: Ablauf Artikel Nr. 444096 Antriebswelle
URL;VALUE=URI:https://www.myauktion.com/versteigerung7661-position2446826-antriebswelle.php
DESCRIPTION:Gebraucht 
UID:myauktion-7661-2446826
BEGIN:VALARM
ACTION:DISPLAY
DESCRIPTION:Gebraucht 
TRIGGER:-PT10M
END:VALARM
END:VEVENT
END:VCALENDAR