BEGIN:VCALENDAR
VERSION:2.0
PRODID:-//Goldgrube//myauktion.com//AT
CALSCALE:GREGORIAN
BEGIN:VEVENT
DTSTART:20260506T161900
DTEND:20260506T161930
LOCATION:Gewerbepark 13, 8562 Mooskirchen
DTSTAMP:20260423T153103
SUMMARY:MyAuktion: Ablauf Artikel Nr. 444098 Palfinger HF1330 Gleitplatte Seitenschneider SC12 Bronze 6stk  
URL;VALUE=URI:https://www.myauktion.com/versteigerung7661-position2446829-palfinger-hf1330-gleitplatte-seitenschneider-sc12-bronze-6stk.php
DESCRIPTION:Ca. 20cm 
UID:myauktion-7661-2446829
BEGIN:VALARM
ACTION:DISPLAY
DESCRIPTION:Ca. 20cm 
TRIGGER:-PT10M
END:VALARM
END:VEVENT
END:VCALENDAR