BEGIN:VCALENDAR
VERSION:2.0
PRODID:-//Goldgrube//myauktion.com//AT
CALSCALE:GREGORIAN
BEGIN:VEVENT
DTSTART:20260506T141800
DTEND:20260506T141830
LOCATION:Gewerbepark 13, 8562 Mooskirchen
DTSTAMP:20260423T151141
SUMMARY:MyAuktion: Ablauf Artikel Nr. 443485 Bauchtasche braun flauschig 
URL;VALUE=URI:https://www.myauktion.com/versteigerung7661-position2446830-bauchtasche-braun-flauschig.php
DESCRIPTION:Gebraucht 
UID:myauktion-7661-2446830
BEGIN:VALARM
ACTION:DISPLAY
DESCRIPTION:Gebraucht 
TRIGGER:-PT10M
END:VALARM
END:VEVENT
END:VCALENDAR