BEGIN:VCALENDAR
VERSION:2.0
PRODID:-//Goldgrube//myauktion.com//AT
CALSCALE:GREGORIAN
BEGIN:VEVENT
DTSTART:20260506T132000
DTEND:20260506T132030
LOCATION:Gewerbepark 13, 8562 Mooskirchen
DTSTAMP:20260423T153059
SUMMARY:MyAuktion: Ablauf Artikel Nr. 443120 Kerbl Sicherheitstransformer EN61558-2-6 
URL;VALUE=URI:https://www.myauktion.com/versteigerung7661-position2446831-kerbl-sicherheitstransformer-en61558-2-6.php
DESCRIPTION:
UID:myauktion-7661-2446831
BEGIN:VALARM
ACTION:DISPLAY
DESCRIPTION:
TRIGGER:-PT10M
END:VALARM
END:VEVENT
END:VCALENDAR