BEGIN:VCALENDAR
VERSION:2.0
PRODID:-//Goldgrube//myauktion.com//AT
CALSCALE:GREGORIAN
BEGIN:VEVENT
DTSTART:20260506T162000
DTEND:20260506T162030
LOCATION:Gewerbepark 13, 8562 Mooskirchen
DTSTAMP:20260423T153105
SUMMARY:MyAuktion: Ablauf Artikel Nr. 444099 Diverse Zubehör 
URL;VALUE=URI:https://www.myauktion.com/versteigerung7661-position2446832-diverse-zubehoer.php
DESCRIPTION:Bronze. Ca 20x4cm 
UID:myauktion-7661-2446832
BEGIN:VALARM
ACTION:DISPLAY
DESCRIPTION:Bronze. Ca 20x4cm 
TRIGGER:-PT10M
END:VALARM
END:VEVENT
END:VCALENDAR