BEGIN:VCALENDAR
VERSION:2.0
PRODID:-//Goldgrube//myauktion.com//AT
CALSCALE:GREGORIAN
BEGIN:VEVENT
DTSTART:20260506T141900
DTEND:20260506T141930
LOCATION:Gewerbepark 13, 8562 Mooskirchen
DTSTAMP:20260423T151130
SUMMARY:MyAuktion: Ablauf Artikel Nr. 443486 Rollkoffer ca 67x50 cm 
URL;VALUE=URI:https://www.myauktion.com/versteigerung7661-position2446833-rollkoffer-ca-67x50-cm.php
DESCRIPTION:Gebraucht verschmutzt beschädigt 
UID:myauktion-7661-2446833
BEGIN:VALARM
ACTION:DISPLAY
DESCRIPTION:Gebraucht verschmutzt beschädigt 
TRIGGER:-PT10M
END:VALARM
END:VEVENT
END:VCALENDAR