BEGIN:VCALENDAR
VERSION:2.0
PRODID:-//Goldgrube//myauktion.com//AT
CALSCALE:GREGORIAN
BEGIN:VEVENT
DTSTART:20260506T142200
DTEND:20260506T142230
LOCATION:Gewerbepark 13, 8562 Mooskirchen
DTSTAMP:20260423T151122
SUMMARY:MyAuktion: Ablauf Artikel Nr. 443489 ANRO Kissenhülle 40x40 Braun
URL;VALUE=URI:https://www.myauktion.com/versteigerung7661-position2446838-anro-kissenhuelle-40x40-braun.php
DESCRIPTION:
UID:myauktion-7661-2446838
BEGIN:VALARM
ACTION:DISPLAY
DESCRIPTION:
TRIGGER:-PT10M
END:VALARM
END:VEVENT
END:VCALENDAR