BEGIN:VCALENDAR
VERSION:2.0
PRODID:-//Goldgrube//myauktion.com//AT
CALSCALE:GREGORIAN
BEGIN:VEVENT
DTSTART:20260506T162400
DTEND:20260506T162430
LOCATION:Gewerbepark 13, 8562 Mooskirchen
DTSTAMP:20260423T153106
SUMMARY:MyAuktion: Ablauf Artikel Nr. 444104 Schneider Electric NSYS3D4420P Panel Set 400x400x200
URL;VALUE=URI:https://www.myauktion.com/versteigerung7661-position2446841-schneider-electric-nsys3d4420p-panel-set-400x400x200.php
DESCRIPTION:
UID:myauktion-7661-2446841
BEGIN:VALARM
ACTION:DISPLAY
DESCRIPTION:
TRIGGER:-PT10M
END:VALARM
END:VEVENT
END:VCALENDAR