BEGIN:VCALENDAR
VERSION:2.0
PRODID:-//Goldgrube//myauktion.com//AT
CALSCALE:GREGORIAN
BEGIN:VEVENT
DTSTART:20260506T162500
DTEND:20260506T162530
LOCATION:Gewerbepark 13, 8562 Mooskirchen
DTSTAMP:20260423T153100
SUMMARY:MyAuktion: Ablauf Artikel Nr. 444105 HP 62 XL Druckerpatrone  Black 
URL;VALUE=URI:https://www.myauktion.com/versteigerung7661-position2446842-hp-62-xl-druckerpatrone-black.php
DESCRIPTION:
UID:myauktion-7661-2446842
BEGIN:VALARM
ACTION:DISPLAY
DESCRIPTION:
TRIGGER:-PT10M
END:VALARM
END:VEVENT
END:VCALENDAR