BEGIN:VCALENDAR
VERSION:2.0
PRODID:-//Goldgrube//myauktion.com//AT
CALSCALE:GREGORIAN
BEGIN:VEVENT
DTSTART:20260506T162700
DTEND:20260506T162730
LOCATION:Gewerbepark 13, 8562 Mooskirchen
DTSTAMP:20260423T153059
SUMMARY:MyAuktion: Ablauf Artikel Nr. 444106 Nubi ² Kinderkraft Buggy Gehäuse mit Räder 
URL;VALUE=URI:https://www.myauktion.com/versteigerung7661-position2446843-nubi--kinderkraft-buggy-gehaeuse-mit-raeder.php
DESCRIPTION:
UID:myauktion-7661-2446843
BEGIN:VALARM
ACTION:DISPLAY
DESCRIPTION:
TRIGGER:-PT10M
END:VALARM
END:VEVENT
END:VCALENDAR