BEGIN:VCALENDAR
VERSION:2.0
PRODID:-//Goldgrube//myauktion.com//AT
CALSCALE:GREGORIAN
BEGIN:VEVENT
DTSTART:20260506T132600
DTEND:20260506T132630
LOCATION:Gewerbepark 13, 8562 Mooskirchen
DTSTAMP:20260423T153106
SUMMARY:MyAuktion: Ablauf Artikel Nr. 443130 Walteco Floor stopline 25mm ø45mm 
URL;VALUE=URI:https://www.myauktion.com/versteigerung7661-position2446845-walteco-floor-stopline-25mm-45mm.php
DESCRIPTION:
UID:myauktion-7661-2446845
BEGIN:VALARM
ACTION:DISPLAY
DESCRIPTION:
TRIGGER:-PT10M
END:VALARM
END:VEVENT
END:VCALENDAR