BEGIN:VCALENDAR
VERSION:2.0
PRODID:-//Goldgrube//myauktion.com//AT
CALSCALE:GREGORIAN
BEGIN:VEVENT
DTSTART:20260506T132900
DTEND:20260506T132930
LOCATION:Gewerbepark 13, 8562 Mooskirchen
DTSTAMP:20260423T165939
SUMMARY:MyAuktion: Ablauf Artikel Nr. 443136 Case for iPad Air 5th 
URL;VALUE=URI:https://www.myauktion.com/versteigerung7661-position2446851-case-for-ipad-air-5th.php
DESCRIPTION:
UID:myauktion-7661-2446851
BEGIN:VALARM
ACTION:DISPLAY
DESCRIPTION:
TRIGGER:-PT10M
END:VALARM
END:VEVENT
END:VCALENDAR