BEGIN:VCALENDAR
VERSION:2.0
PRODID:-//Goldgrube//myauktion.com//AT
CALSCALE:GREGORIAN
BEGIN:VEVENT
DTSTART:20260506T163000
DTEND:20260506T163030
LOCATION:Gewerbepark 13, 8562 Mooskirchen
DTSTAMP:20260423T153106
SUMMARY:MyAuktion: Ablauf Artikel Nr. 444111 Lastar For One Night  Eau de Parfum 55ml
URL;VALUE=URI:https://www.myauktion.com/versteigerung7661-position2446852-lastar-for-one-night-eau-de-parfum-55ml.php
DESCRIPTION:
UID:myauktion-7661-2446852
BEGIN:VALARM
ACTION:DISPLAY
DESCRIPTION:
TRIGGER:-PT10M
END:VALARM
END:VEVENT
END:VCALENDAR