BEGIN:VCALENDAR
VERSION:2.0
PRODID:-//Goldgrube//myauktion.com//AT
CALSCALE:GREGORIAN
BEGIN:VEVENT
DTSTART:20260506T133000
DTEND:20260506T133030
LOCATION:Gewerbepark 13, 8562 Mooskirchen
DTSTAMP:20260423T153106
SUMMARY:MyAuktion: Ablauf Artikel Nr. 443138 Schattenfreude Rollo mit Kassette ca. 129cm 
URL;VALUE=URI:https://www.myauktion.com/versteigerung7661-position2446853-schattenfreude-rollo-mit-kassette-ca-129cm.php
DESCRIPTION:Braun 
UID:myauktion-7661-2446853
BEGIN:VALARM
ACTION:DISPLAY
DESCRIPTION:Braun 
TRIGGER:-PT10M
END:VALARM
END:VEVENT
END:VCALENDAR