BEGIN:VCALENDAR
VERSION:2.0
PRODID:-//Goldgrube//myauktion.com//AT
CALSCALE:GREGORIAN
BEGIN:VEVENT
DTSTART:20260506T133100
DTEND:20260506T133130
LOCATION:Gewerbepark 13, 8562 Mooskirchen
DTSTAMP:20260423T153058
SUMMARY:MyAuktion: Ablauf Artikel Nr. 443139 Bosch Kamin Abgaszubehör 7738112571 
URL;VALUE=URI:https://www.myauktion.com/versteigerung7661-position2446854-bosch-kamin-abgaszubehoer-7738112571.php
DESCRIPTION:
UID:myauktion-7661-2446854
BEGIN:VALARM
ACTION:DISPLAY
DESCRIPTION:
TRIGGER:-PT10M
END:VALARM
END:VEVENT
END:VCALENDAR