BEGIN:VCALENDAR
VERSION:2.0
PRODID:-//Goldgrube//myauktion.com//AT
CALSCALE:GREGORIAN
BEGIN:VEVENT
DTSTART:20260506T163200
DTEND:20260506T163230
LOCATION:Gewerbepark 13, 8562 Mooskirchen
DTSTAMP:20260423T153058
SUMMARY:MyAuktion: Ablauf Artikel Nr. 444114 Benuta Finest Teppich 60007514 200x300cm 
URL;VALUE=URI:https://www.myauktion.com/versteigerung7661-position2446857-benuta-finest-teppich-60007514-200x300cm.php
DESCRIPTION:Leicht verschmutzt . Color: Cream 
UID:myauktion-7661-2446857
BEGIN:VALARM
ACTION:DISPLAY
DESCRIPTION:Leicht verschmutzt . Color: Cream 
TRIGGER:-PT10M
END:VALARM
END:VEVENT
END:VCALENDAR