BEGIN:VCALENDAR
VERSION:2.0
PRODID:-//Goldgrube//myauktion.com//AT
CALSCALE:GREGORIAN
BEGIN:VEVENT
DTSTART:20260506T163300
DTEND:20260506T163330
LOCATION:Gewerbepark 13, 8562 Mooskirchen
DTSTAMP:20260423T153101
SUMMARY:MyAuktion: Ablauf Artikel Nr. 444115 Desinfektion Spender Sensor Schwarz 5100 D BLA mit 3 JM Skin Desinfektionsliquid 3x1000ml 
URL;VALUE=URI:https://www.myauktion.com/versteigerung7661-position2446858-desinfektion-spender-sensor-schwarz-5100-d-bla-mit-3-jm-skin-desinfektionsliquid-3x1000ml.php
DESCRIPTION:
UID:myauktion-7661-2446858
BEGIN:VALARM
ACTION:DISPLAY
DESCRIPTION:
TRIGGER:-PT10M
END:VALARM
END:VEVENT
END:VCALENDAR