BEGIN:VCALENDAR
VERSION:2.0
PRODID:-//Goldgrube//myauktion.com//AT
CALSCALE:GREGORIAN
BEGIN:VEVENT
DTSTART:20260506T142600
DTEND:20260506T142630
LOCATION:Gewerbepark 13, 8562 Mooskirchen
DTSTAMP:20260423T151123
SUMMARY:MyAuktion: Ablauf Artikel Nr. 443495 Henkel Loctite SF 7063 Cleaner 400ml 
URL;VALUE=URI:https://www.myauktion.com/versteigerung7661-position2446859-henkel-loctite-sf-7063-cleaner-400ml.php
DESCRIPTION:
UID:myauktion-7661-2446859
BEGIN:VALARM
ACTION:DISPLAY
DESCRIPTION:
TRIGGER:-PT10M
END:VALARM
END:VEVENT
END:VCALENDAR