BEGIN:VCALENDAR
VERSION:2.0
PRODID:-//Goldgrube//myauktion.com//AT
CALSCALE:GREGORIAN
BEGIN:VEVENT
DTSTART:20260506T163400
DTEND:20260506T163430
LOCATION:Gewerbepark 13, 8562 Mooskirchen
DTSTAMP:20260423T153101
SUMMARY:MyAuktion: Ablauf Artikel Nr. 444116 Rama 32135 Popielaty 200x120cm 
URL;VALUE=URI:https://www.myauktion.com/versteigerung7661-position2446860-rama-32135-popielaty-200x120cm.php
DESCRIPTION:Keine näheren Daten vorhanden .Vollständigkeit nicht geprüft. 
UID:myauktion-7661-2446860
BEGIN:VALARM
ACTION:DISPLAY
DESCRIPTION:Keine näheren Daten vorhanden .Vollständigkeit nicht geprüft. 
TRIGGER:-PT10M
END:VALARM
END:VEVENT
END:VCALENDAR