BEGIN:VCALENDAR
VERSION:2.0
PRODID:-//Goldgrube//myauktion.com//AT
CALSCALE:GREGORIAN
BEGIN:VEVENT
DTSTART:20260506T133200
DTEND:20260506T133230
LOCATION:Gewerbepark 13, 8562 Mooskirchen
DTSTAMP:20260423T165940
SUMMARY:MyAuktion: Ablauf Artikel Nr. 443144 Inmate Kostüm 
URL;VALUE=URI:https://www.myauktion.com/versteigerung7661-position2446861-inmate-kostuem.php
DESCRIPTION:Gr. XS 
UID:myauktion-7661-2446861
BEGIN:VALARM
ACTION:DISPLAY
DESCRIPTION:Gr. XS 
TRIGGER:-PT10M
END:VALARM
END:VEVENT
END:VCALENDAR