BEGIN:VCALENDAR
VERSION:2.0
PRODID:-//Goldgrube//myauktion.com//AT
CALSCALE:GREGORIAN
BEGIN:VEVENT
DTSTART:20260506T142700
DTEND:20260506T142730
LOCATION:Gewerbepark 13, 8562 Mooskirchen
DTSTAMP:20260423T151119
SUMMARY:MyAuktion: Ablauf Artikel Nr. 443496 Verpackungs Kartons 5Stk länge 119cm 
URL;VALUE=URI:https://www.myauktion.com/versteigerung7661-position2446862-verpackungs-kartons-5stk-laenge-119cm.php
DESCRIPTION:Beschmutzt beschädigt 
UID:myauktion-7661-2446862
BEGIN:VALARM
ACTION:DISPLAY
DESCRIPTION:Beschmutzt beschädigt 
TRIGGER:-PT10M
END:VALARM
END:VEVENT
END:VCALENDAR